BEGIN:VCALENDAR
VERSION:2.0
PRODID:-//Syren USA - ECPv6.15.20//NONSGML v1.0//EN
CALSCALE:GREGORIAN
METHOD:PUBLISH
X-WR-CALNAME:Syren USA
X-ORIGINAL-URL:https://syrenusa.com
X-WR-CALDESC:Events for Syren USA
REFRESH-INTERVAL;VALUE=DURATION:PT1H
X-Robots-Tag:noindex
X-PUBLISHED-TTL:PT1H
BEGIN:VTIMEZONE
TZID:America/New_York
BEGIN:DAYLIGHT
TZOFFSETFROM:-0500
TZOFFSETTO:-0400
TZNAME:EDT
DTSTART:20180311T070000
END:DAYLIGHT
BEGIN:STANDARD
TZOFFSETFROM:-0400
TZOFFSETTO:-0500
TZNAME:EST
DTSTART:20181104T060000
END:STANDARD
BEGIN:DAYLIGHT
TZOFFSETFROM:-0500
TZOFFSETTO:-0400
TZNAME:EDT
DTSTART:20190310T070000
END:DAYLIGHT
BEGIN:STANDARD
TZOFFSETFROM:-0400
TZOFFSETTO:-0500
TZNAME:EST
DTSTART:20191103T060000
END:STANDARD
BEGIN:DAYLIGHT
TZOFFSETFROM:-0500
TZOFFSETTO:-0400
TZNAME:EDT
DTSTART:20200308T070000
END:DAYLIGHT
BEGIN:STANDARD
TZOFFSETFROM:-0400
TZOFFSETTO:-0500
TZNAME:EST
DTSTART:20201101T060000
END:STANDARD
END:VTIMEZONE
BEGIN:VEVENT
DTSTART;VALUE=DATE:20191003
DTEND;VALUE=DATE:20191007
DTSTAMP:20260423T120150
CREATED:20190617T210642Z
LAST-MODIFIED:20190924T141707Z
UID:5740-1570060800-1570406399@syrenusa.com
SUMMARY:Southeast NSCA Regional Championship 2019
DESCRIPTION:A Syren representative will be available for this event to help answer your questions. A variety of demo guns will be available for you to shoot\, products on display and limited gunsmithing services will be performed on a first come first serve basis. For more info visit www.backwoodsquailclub.com
URL:https://syrenusa.com/event/southeast-nsca-regional-championship-2019/
LOCATION:Backwoods Quail Club\, 647 Hemingway Ln\, Georgetown\, SC\, 29440\, United States
END:VEVENT
BEGIN:VEVENT
DTSTART;TZID=America/New_York:20191005T100000
DTEND;TZID=America/New_York:20191006T130000
DTSTAMP:20260423T120150
CREATED:20190926T152651Z
LAST-MODIFIED:20190926T152710Z
UID:5929-1570269600-1570366800@syrenusa.com
SUMMARY:Orvis Game Fair @ Hill Country 2019
DESCRIPTION:A Syren representative will be available for this event to help answer your questions. A variety of demo guns will be available to shoot and products on display. However no gunsmithing services will be performed. For more info please call 717-253-9665 or visit https://www.orvis.com/s/orvis-game-fair-hill-country/15274
URL:https://syrenusa.com/event/orvis-game-fair-hill-country-2019/
LOCATION:Orvis Hill Country Shooting Grounds\, 519 GLADHILL ROAD\, FAIRFIELD\, PA\, 17320\, United States
END:VEVENT
BEGIN:VEVENT
DTSTART;VALUE=DATE:20191022
DTEND;VALUE=DATE:20191028
DTSTAMP:20260423T120150
CREATED:20190617T211824Z
LAST-MODIFIED:20190924T141745Z
UID:5743-1571702400-1572220799@syrenusa.com
SUMMARY:2019 NSCA National Championships
DESCRIPTION:A Syren representative will be available for this event to help answer your questions. A variety of demo guns will be available to shoot and products on display as well as accessories for sale. Limited gunsmithing services will be performed on a first come first serve basis. For more info please visit http://nsc.nssa-nsca.org
URL:https://syrenusa.com/event/2019-nsca-national-championships/
LOCATION:The National Shooting Complex\, 5931 Roft Road\, San Antonio\, TX\, 78253\, United States
END:VEVENT
END:VCALENDAR