BEGIN:VCALENDAR
VERSION:2.0
PRODID:-//Syren USA - ECPv6.15.20//NONSGML v1.0//EN
CALSCALE:GREGORIAN
METHOD:PUBLISH
X-WR-CALNAME:Syren USA
X-ORIGINAL-URL:https://syrenusa.com
X-WR-CALDESC:Events for Syren USA
REFRESH-INTERVAL;VALUE=DURATION:PT1H
X-Robots-Tag:noindex
X-PUBLISHED-TTL:PT1H
BEGIN:VTIMEZONE
TZID:America/New_York
BEGIN:DAYLIGHT
TZOFFSETFROM:-0500
TZOFFSETTO:-0400
TZNAME:EDT
DTSTART:20230312T070000
END:DAYLIGHT
BEGIN:STANDARD
TZOFFSETFROM:-0400
TZOFFSETTO:-0500
TZNAME:EST
DTSTART:20231105T060000
END:STANDARD
BEGIN:DAYLIGHT
TZOFFSETFROM:-0500
TZOFFSETTO:-0400
TZNAME:EDT
DTSTART:20240310T070000
END:DAYLIGHT
BEGIN:STANDARD
TZOFFSETFROM:-0400
TZOFFSETTO:-0500
TZNAME:EST
DTSTART:20241103T060000
END:STANDARD
BEGIN:DAYLIGHT
TZOFFSETFROM:-0500
TZOFFSETTO:-0400
TZNAME:EDT
DTSTART:20250309T070000
END:DAYLIGHT
BEGIN:STANDARD
TZOFFSETFROM:-0400
TZOFFSETTO:-0500
TZNAME:EST
DTSTART:20251102T060000
END:STANDARD
END:VTIMEZONE
BEGIN:VEVENT
DTSTART;TZID=America/New_York:20241005T080000
DTEND;TZID=America/New_York:20241006T170000
DTSTAMP:20260420T040614
CREATED:20240913T210840Z
LAST-MODIFIED:20240913T210939Z
UID:10207-1728115200-1728234000@syrenusa.com
SUMMARY:Green Top Outdoor Expo 2024
DESCRIPTION:The Green Top Outdoor Expo features 225+ vendors\, product demos and seminars\, prizes and contests\, event specials\, live music\, food and more! This is a free event and a good time for the whole family. We’ll be there in the vendor area with our knowledgeable factory reps to help answer your questions\, including SYREN Prostaffer Kate Ahnstrom\, as well as a variety of our fine Italian shotguns on display to see and handle. Stop by and see us during this event. For more info visit https://www.greentop.com/outdoor-expo/
URL:https://syrenusa.com/event/green-top-outdoor-expo-2024/
LOCATION:Green Top Sporting Goods\, 10150 Lakeridge Pkwy\, Ashland\, VA\, 23005\, United States
END:VEVENT
END:VCALENDAR