BEGIN:VCALENDAR
VERSION:2.0
PRODID:-//Syren USA - ECPv6.15.20//NONSGML v1.0//EN
CALSCALE:GREGORIAN
METHOD:PUBLISH
X-ORIGINAL-URL:https://syrenusa.com
X-WR-CALDESC:Events for Syren USA
REFRESH-INTERVAL;VALUE=DURATION:PT1H
X-Robots-Tag:noindex
X-PUBLISHED-TTL:PT1H
BEGIN:VTIMEZONE
TZID:America/New_York
BEGIN:DAYLIGHT
TZOFFSETFROM:-0500
TZOFFSETTO:-0400
TZNAME:EDT
DTSTART:20220313T070000
END:DAYLIGHT
BEGIN:STANDARD
TZOFFSETFROM:-0400
TZOFFSETTO:-0500
TZNAME:EST
DTSTART:20221106T060000
END:STANDARD
BEGIN:DAYLIGHT
TZOFFSETFROM:-0500
TZOFFSETTO:-0400
TZNAME:EDT
DTSTART:20230312T070000
END:DAYLIGHT
BEGIN:STANDARD
TZOFFSETFROM:-0400
TZOFFSETTO:-0500
TZNAME:EST
DTSTART:20231105T060000
END:STANDARD
BEGIN:DAYLIGHT
TZOFFSETFROM:-0500
TZOFFSETTO:-0400
TZNAME:EDT
DTSTART:20240310T070000
END:DAYLIGHT
BEGIN:STANDARD
TZOFFSETFROM:-0400
TZOFFSETTO:-0500
TZNAME:EST
DTSTART:20241103T060000
END:STANDARD
END:VTIMEZONE
BEGIN:VEVENT
DTSTART;VALUE=DATE:20230420
DTEND;VALUE=DATE:20230424
DTSTAMP:20260420T011508
CREATED:20230214T220053Z
LAST-MODIFIED:20230214T220053Z
UID:8767-1681948800-1682294399@syrenusa.com
SUMMARY:2023 Texas State Sporting Clays Championship
DESCRIPTION:A representative will be available for this event to help answer your questions. A variety of demo guns will be available to shoot\, and a gunsmith will be available for service on a first come first served basis. Come see us at the vendor area. For more info on this event\, visit https://nsc.nssa-nsca.org/2022/09/28/nsc-to-host-2023-texas-state-sporting-clays/
URL:https://syrenusa.com/event/2023-texas-state-sporting-clays-championship/
LOCATION:The National Shooting Complex\, 5931 Roft Road\, San Antonio\, TX\, 78253\, United States
END:VEVENT
BEGIN:VEVENT
DTSTART;VALUE=DATE:20230421
DTEND;VALUE=DATE:20230424
DTSTAMP:20260420T011508
CREATED:20230417T151533Z
LAST-MODIFIED:20230417T152452Z
UID:8941-1682035200-1682294399@syrenusa.com
SUMMARY:HerUpland Wingshooting Clinic 2023
DESCRIPTION:NOTE: You MUST be registered to attend this event. Syren demos will be available at this event and shooting instruction provided by Syren’s Grace Callahan (Master class shooter and NSCA Certified Instructor). \nShooters of all levels are invited: Gentleman welcome\, Women and Youth Encouraged! \nYouth (10 years or older)\, women\, and men are invited to participate in a weekend long wingshooting clinic on April 21 – 23\, 2023 Halter Shooting Sports Education Center in Hillsdale\, MI. \nThe clinic is hosted by HerUpland and The Ruffed Grouse Society/American Woodcock Society. \nCheck-in will begin on Friday\, April 21 at 5pm at Hillsdale Brewing Co. The clinic will begin at 8:00am Saturday morning and end 5pm Sunday afternoon. Instruction during the wingshooting clinic will be provided by National Sporting Clays Association certified instructors. Participants will learn to safely handle and fire a shotgun\, as well as practice the fundamentals of wingshooting. \nEach participant will have eight hours of shooting instruction (4 hours each day) in groups no larger than four. Eight hours of skills seminars and demonstrations will be provided both days when you’re not shooting\, these will include: shotgun patterning\, navigation\, bird dog demonstrations\, basics of upland hunting in Michigan\, local habitat observation and identification\, gamebird cooking. \nRegistration is $250 per participant\, 4 youth scholarships available. \nContact Team@HerUpland.com with any questions. Or for more details visit https://herupland.com/wingshooting-clinic-mi/
URL:https://syrenusa.com/event/herupland-wingshooting-clinic-2023/
LOCATION:Halter Shooting Sports Education Center\, 4390 Bankers Rd\, Hillsdale\, MI\, 49242\, United States
END:VEVENT
END:VCALENDAR