BEGIN:VCALENDAR
VERSION:2.0
PRODID:-//Syren USA - ECPv6.15.20//NONSGML v1.0//EN
CALSCALE:GREGORIAN
METHOD:PUBLISH
X-WR-CALNAME:Syren USA
X-ORIGINAL-URL:https://syrenusa.com
X-WR-CALDESC:Events for Syren USA
REFRESH-INTERVAL;VALUE=DURATION:PT1H
X-Robots-Tag:noindex
X-PUBLISHED-TTL:PT1H
BEGIN:VTIMEZONE
TZID:America/New_York
BEGIN:DAYLIGHT
TZOFFSETFROM:-0500
TZOFFSETTO:-0400
TZNAME:EDT
DTSTART:20180311T070000
END:DAYLIGHT
BEGIN:STANDARD
TZOFFSETFROM:-0400
TZOFFSETTO:-0500
TZNAME:EST
DTSTART:20181104T060000
END:STANDARD
BEGIN:DAYLIGHT
TZOFFSETFROM:-0500
TZOFFSETTO:-0400
TZNAME:EDT
DTSTART:20190310T070000
END:DAYLIGHT
BEGIN:STANDARD
TZOFFSETFROM:-0400
TZOFFSETTO:-0500
TZNAME:EST
DTSTART:20191103T060000
END:STANDARD
BEGIN:DAYLIGHT
TZOFFSETFROM:-0500
TZOFFSETTO:-0400
TZNAME:EDT
DTSTART:20200308T070000
END:DAYLIGHT
BEGIN:STANDARD
TZOFFSETFROM:-0400
TZOFFSETTO:-0500
TZNAME:EST
DTSTART:20201101T060000
END:STANDARD
END:VTIMEZONE
BEGIN:VEVENT
DTSTART;TZID=America/New_York:20191107T090000
DTEND;TZID=America/New_York:20191110T150000
DTSTAMP:20260423T143315
CREATED:20190823T144011Z
LAST-MODIFIED:20190823T144011Z
UID:5879-1573117200-1573398000@syrenusa.com
SUMMARY:Autumn Grand 2019
DESCRIPTION:A Syren representative will be available for this event to help answer your questions. A variety of demo guns will be available to shoot and products on display. However no gunsmithing services will be performed. For more info call Robert Young at 520-841-1999 or visit www.TucsonTrapandSkeet.com
URL:https://syrenusa.com/event/autumn-grand-2019/
LOCATION:Tucson Trap and Skeet Club\, 7800 W Old Ajo Hwy\, Tucson\, AZ\, 85735\, United States
END:VEVENT
END:VCALENDAR