BEGIN:VCALENDAR
VERSION:2.0
PRODID:-//Syren USA - ECPv6.15.20//NONSGML v1.0//EN
CALSCALE:GREGORIAN
METHOD:PUBLISH
X-ORIGINAL-URL:https://syrenusa.com
X-WR-CALDESC:Events for Syren USA
REFRESH-INTERVAL;VALUE=DURATION:PT1H
X-Robots-Tag:noindex
X-PUBLISHED-TTL:PT1H
BEGIN:VTIMEZONE
TZID:America/New_York
BEGIN:DAYLIGHT
TZOFFSETFROM:-0500
TZOFFSETTO:-0400
TZNAME:EDT
DTSTART:20180311T070000
END:DAYLIGHT
BEGIN:STANDARD
TZOFFSETFROM:-0400
TZOFFSETTO:-0500
TZNAME:EST
DTSTART:20181104T060000
END:STANDARD
BEGIN:DAYLIGHT
TZOFFSETFROM:-0500
TZOFFSETTO:-0400
TZNAME:EDT
DTSTART:20190310T070000
END:DAYLIGHT
BEGIN:STANDARD
TZOFFSETFROM:-0400
TZOFFSETTO:-0500
TZNAME:EST
DTSTART:20191103T060000
END:STANDARD
BEGIN:DAYLIGHT
TZOFFSETFROM:-0500
TZOFFSETTO:-0400
TZNAME:EDT
DTSTART:20200308T070000
END:DAYLIGHT
BEGIN:STANDARD
TZOFFSETFROM:-0400
TZOFFSETTO:-0500
TZNAME:EST
DTSTART:20201101T060000
END:STANDARD
END:VTIMEZONE
BEGIN:VEVENT
DTSTART;TZID=America/New_York:20191102T080000
DTEND;TZID=America/New_York:20191103T170000
DTSTAMP:20260423T132626
CREATED:20190926T154909Z
LAST-MODIFIED:20190926T154909Z
UID:5930-1572681600-1572800400@syrenusa.com
SUMMARY:Orvis Game Fair @ Pursell Farms 2019
DESCRIPTION:A Syren representative will be available for this event to help answer your questions. A variety of demo guns will be available to shoot and products on display. However no gunsmithing services will be performed. Event is FREE and open to the public! For more info please call (855) 799-2826 or visit https://pursellfarms.com/orvis-game-fair-country-sporting-weekend/
URL:https://syrenusa.com/event/orvis-game-fair-pursell-farms-2019/
LOCATION:ORVIS Shooting Grounds at Pursell Farms\, 386 Talladega Springs Rd\, Sylacauga\, AL\, 35151\, United States
END:VEVENT
END:VCALENDAR