BEGIN:VCALENDAR
VERSION:2.0
PRODID:-//Syren USA - ECPv6.15.20//NONSGML v1.0//EN
CALSCALE:GREGORIAN
METHOD:PUBLISH
X-WR-CALNAME:Syren USA
X-ORIGINAL-URL:https://syrenusa.com
X-WR-CALDESC:Events for Syren USA
REFRESH-INTERVAL;VALUE=DURATION:PT1H
X-Robots-Tag:noindex
X-PUBLISHED-TTL:PT1H
BEGIN:VTIMEZONE
TZID:America/New_York
BEGIN:DAYLIGHT
TZOFFSETFROM:-0500
TZOFFSETTO:-0400
TZNAME:EDT
DTSTART:20180311T070000
END:DAYLIGHT
BEGIN:STANDARD
TZOFFSETFROM:-0400
TZOFFSETTO:-0500
TZNAME:EST
DTSTART:20181104T060000
END:STANDARD
BEGIN:DAYLIGHT
TZOFFSETFROM:-0500
TZOFFSETTO:-0400
TZNAME:EDT
DTSTART:20190310T070000
END:DAYLIGHT
BEGIN:STANDARD
TZOFFSETFROM:-0400
TZOFFSETTO:-0500
TZNAME:EST
DTSTART:20191103T060000
END:STANDARD
BEGIN:DAYLIGHT
TZOFFSETFROM:-0500
TZOFFSETTO:-0400
TZNAME:EDT
DTSTART:20200308T070000
END:DAYLIGHT
BEGIN:STANDARD
TZOFFSETFROM:-0400
TZOFFSETTO:-0500
TZNAME:EST
DTSTART:20201101T060000
END:STANDARD
END:VTIMEZONE
BEGIN:VEVENT
DTSTART;TZID=America/New_York:20190131T140000
DTEND;TZID=America/New_York:20190131T160000
DTSTAMP:20260419T114602
CREATED:20190115T201334Z
LAST-MODIFIED:20190115T201334Z
UID:5315-1548943200-1548950400@syrenusa.com
SUMMARY:Syren Demo - Kiawah Gun Club\, SC
DESCRIPTION:Please join SYREN USA and the Charleston Annie Oakley Shooters for a special event at the Kiawah Gun Club.  We want to get to know our fellow Annies and encourage women’s interest in shooting sporting clays together for fellowship\, fun\, and to learn the skill of shooting. \nThis event is open to men and women regardless of Annie membership.  It is also not necessary to be a member of the Kiawah Club.  There is no charge for admission. \nGuns are able to be shot but there will be no gun-smithing available for this event.
URL:https://syrenusa.com/event/syren-demo-kiawah-gun-club-sc/
LOCATION:Kiawah Gun Club\, Kiawah Island\, SC\, 3345 Bohicket Rd\, SC\, 29455
ORGANIZER;CN="Syren USA":MAILTO:info@syrenusa.com
END:VEVENT
END:VCALENDAR