BEGIN:VCALENDAR
VERSION:2.0
PRODID:-//Syren USA - ECPv6.15.20//NONSGML v1.0//EN
CALSCALE:GREGORIAN
METHOD:PUBLISH
X-ORIGINAL-URL:https://syrenusa.com
X-WR-CALDESC:Events for Syren USA
REFRESH-INTERVAL;VALUE=DURATION:PT1H
X-Robots-Tag:noindex
X-PUBLISHED-TTL:PT1H
BEGIN:VTIMEZONE
TZID:America/New_York
BEGIN:DAYLIGHT
TZOFFSETFROM:-0500
TZOFFSETTO:-0400
TZNAME:EDT
DTSTART:20180311T070000
END:DAYLIGHT
BEGIN:STANDARD
TZOFFSETFROM:-0400
TZOFFSETTO:-0500
TZNAME:EST
DTSTART:20181104T060000
END:STANDARD
BEGIN:DAYLIGHT
TZOFFSETFROM:-0500
TZOFFSETTO:-0400
TZNAME:EDT
DTSTART:20190310T070000
END:DAYLIGHT
BEGIN:STANDARD
TZOFFSETFROM:-0400
TZOFFSETTO:-0500
TZNAME:EST
DTSTART:20191103T060000
END:STANDARD
BEGIN:DAYLIGHT
TZOFFSETFROM:-0500
TZOFFSETTO:-0400
TZNAME:EDT
DTSTART:20200308T070000
END:DAYLIGHT
BEGIN:STANDARD
TZOFFSETFROM:-0400
TZOFFSETTO:-0500
TZNAME:EST
DTSTART:20201101T060000
END:STANDARD
END:VTIMEZONE
BEGIN:VEVENT
DTSTART;TZID=America/New_York:20190126T090000
DTEND;TZID=America/New_York:20190127T150000
DTSTAMP:20260419T152015
CREATED:20190125T183807Z
LAST-MODIFIED:20190125T183828Z
UID:5356-1548493200-1548601200@syrenusa.com
SUMMARY:Coles Fine Guns - Sarasota FL Grand Opening
DESCRIPTION:Join Us as we celebrate this Grand Opening of Cole’s Fine Guns New location in Sarasota Florida! We will have our Demo Trailer on hand at the event\, Factory Reps will be on hand to answer your questions\, and a Gunsmith will also be available on first come first serve basis. A variety of demo guns will be on display and available to test drive! Event is free and open to the public. For more details call Coles Fine Guns at (239) 352-0345
URL:https://syrenusa.com/event/coles-fine-guns-florida-grand-opening/
LOCATION:Sarasota Trap\, Skeet & Clays\, 3445 Rustic Rd\, Nokomis\, FL\, 34275\, United States
END:VEVENT
END:VCALENDAR